BEGIN:VCALENDAR
VERSION:2.0
PRODID:icalendar-ruby
CALSCALE:GREGORIAN
METHOD:PUBLISH
BEGIN:VEVENT
DTSTAMP:20260424T033922Z
UID:http://acegre.com.auproperty?property_id=1754910
DTSTART:20260523T121500
DTEND:20260523T124500
CLASS:PUBLIC
CREATED:20260409T104213
DESCRIPTION: 
LAST-MODIFIED:20260424T111458
LOCATION:4 Windle Avenue\, HOXTON PARK NSW 2171\, Australia
SUMMARY:4 Windle Avenue\,  Auction
URL;VALUE=URI:http://acegre.com.auproperty?property_id=1754910
END:VEVENT
END:VCALENDAR
