BEGIN:VCALENDAR
VERSION:2.0
PRODID:icalendar-ruby
CALSCALE:GREGORIAN
METHOD:PUBLISH
BEGIN:VEVENT
DTSTAMP:20260423T090346Z
UID:http://acegre.com.auproperty?property_id=1740170
DTSTART:20260516T121500
DTEND:20260516T124500
CLASS:PUBLIC
CREATED:20260309T093744
DESCRIPTION: 
LAST-MODIFIED:20260420T193728
LOCATION:53 & 53a  Guernsey Street\, BUSBY NSW 2168\, Australia
SUMMARY:53 & 53a  Guernsey Street\,  Auction
URL;VALUE=URI:http://acegre.com.auproperty?property_id=1740170
END:VEVENT
END:VCALENDAR
